Package: geyser Version: 1.2.0 Command: /home/biocbuild/bbs-3.22-bioc/R/bin/R CMD INSTALL geyser StartedAt: 2025-11-06 15:17:47 -0500 (Thu, 06 Nov 2025) EndedAt: 2025-11-06 15:18:13 -0500 (Thu, 06 Nov 2025) EllapsedTime: 26.6 seconds RetCode: 0 Status: OK