Package: geva Version: 1.14.0 Command: /home/biocbuild/R/R/bin/R CMD build --keep-empty-dirs --no-resave-data geva StartedAt: 2025-01-30 23:54:12 -0000 (Thu, 30 Jan 2025) EndedAt: 2025-01-30 23:56:34 -0000 (Thu, 30 Jan 2025) EllapsedTime: 142.0 seconds RetCode: 1 Status: ERROR PackageFile: None PackageFileSize: NA