Package: gep2pep Version: 1.28.0 Command: rm -rf gep2pep.buildbin-libdir && mkdir gep2pep.buildbin-libdir && /Users/biocbuild/BBS/utils/build-universal.sh gep2pep_1.28.0.tar.gz /Library/Frameworks/R.framework/Resources/bin/R gep2pep.buildbin-libdir StartedAt: 2025-04-22 00:47:32 -0400 (Tue, 22 Apr 2025) EndedAt: 2025-04-22 00:47:57 -0400 (Tue, 22 Apr 2025) EllapsedTime: 25.4 seconds RetCode: 0 Status: OK PackageFile: gep2pep_1.28.0.tgz PackageFileSize: 468.8 KiB