Package: gep2pep Version: 1.28.0 Maintainer: Francesco Napolitano MaintainerEmail: franapoli at gmail.com git_url: https://git.bioconductor.org/packages/gep2pep git_branch: RELEASE_3_21 git_last_commit: f988dd5 git_last_commit_date: 2025-04-15 11:16:18 -0400 (Tue, 15 Apr 2025)