Package: genomes Version: 3.38.0 Command: /Library/Frameworks/R.framework/Resources/bin/R CMD INSTALL genomes StartedAt: 2025-09-18 16:09:40 -0400 (Thu, 18 Sep 2025) EndedAt: 2025-09-18 16:09:45 -0400 (Thu, 18 Sep 2025) EllapsedTime: 5.4 seconds RetCode: 0 Status: OK