Package: genomeIntervals Version: 1.62.0 Command: F:\biocbuild\bbs-3.20-bioc\R\bin\R.exe CMD INSTALL genomeIntervals StartedAt: 2025-01-30 15:35:43 -0500 (Thu, 30 Jan 2025) EndedAt: 2025-01-30 15:37:12 -0500 (Thu, 30 Jan 2025) EllapsedTime: 89.2 seconds RetCode: 0 Status: OK