Package: genomeIntervals Version: 1.62.0 Command: F:\biocbuild\bbs-3.20-bioc\R\bin\R.exe CMD check --no-multiarch --install=check:genomeIntervals.install-out.txt --library=F:\biocbuild\bbs-3.20-bioc\R\library --no-vignettes --timings genomeIntervals_1.62.0.tar.gz StartedAt: 2025-01-31 02:20:26 -0500 (Fri, 31 Jan 2025) EndedAt: 2025-01-31 02:22:18 -0500 (Fri, 31 Jan 2025) EllapsedTime: 112.3 seconds RetCode: 0 Status: WARNINGS CheckDir: genomeIntervals.Rcheck Warnings: 1