Package: genomeIntervals Version: 1.64.0 Command: /Library/Frameworks/R.framework/Resources/bin/R CMD INSTALL genomeIntervals StartedAt: 2025-05-19 15:27:01 -0400 (Mon, 19 May 2025) EndedAt: 2025-05-19 15:27:32 -0400 (Mon, 19 May 2025) EllapsedTime: 31.5 seconds RetCode: 0 Status: OK