Package: genomeIntervals Version: 1.64.0 Command: /Library/Frameworks/R.framework/Resources/bin/R CMD check --install=check:genomeIntervals.install-out.txt --library=/Library/Frameworks/R.framework/Resources/library --no-vignettes --timings genomeIntervals_1.64.0.tar.gz StartedAt: 2025-05-20 03:41:13 -0400 (Tue, 20 May 2025) EndedAt: 2025-05-20 03:44:30 -0400 (Tue, 20 May 2025) EllapsedTime: 197.4 seconds RetCode: 0 Status: WARNINGS CheckDir: genomeIntervals.Rcheck Warnings: 1