Package: genomation Version: 1.38.0 Command: /home/biocbuild/R/R/bin/R CMD build --keep-empty-dirs --no-resave-data genomation StartedAt: 2025-02-03 23:48:50 -0000 (Mon, 03 Feb 2025) EndedAt: 2025-02-03 23:50:52 -0000 (Mon, 03 Feb 2025) EllapsedTime: 122.0 seconds RetCode: 1 Status: ERROR PackageFile: None PackageFileSize: NA