Package: genomation Version: 1.40.1 Command: chmod a+r genomation -R && E:\biocbuild\bbs-3.21-bioc\R\bin\R.exe CMD build --keep-empty-dirs --no-resave-data genomation StartedAt: 2025-08-14 19:19:47 -0400 (Thu, 14 Aug 2025) EndedAt: 2025-08-14 19:21:50 -0400 (Thu, 14 Aug 2025) EllapsedTime: 123.6 seconds RetCode: 0 Status: OK PackageFile: genomation_1.40.1.tar.gz PackageFileSize: 6.005 MiB