Back to Multiple platform build/check report for BioC 3.22:   simplified   long
ABCDEF[G]HIJKLMNOPQRSTUVWXYZ

This page was generated on 2025-11-17 11:57 -0500 (Mon, 17 Nov 2025).

HostnameOSArch (*)R versionInstalled pkgs
nebbiolo2Linux (Ubuntu 24.04.3 LTS)x86_644.5.1 Patched (2025-08-23 r88802) -- "Great Square Root" 4903
taishanLinux (openEuler 24.03 LTS)aarch644.5.0 (2025-04-11) -- "How About a Twenty-Six" 4668
Click on any hostname to see more info about the system (e.g. compilers)      (*) as reported by 'uname -p', except on Windows and Mac OS X

All results for package genomation


To the developers/maintainers of the genomation package:
- Allow up to 24 hours (and sometimes 48 hours) for your latest push to git@git.bioconductor.org:packages/genomation.git to reflect on this report. See Troubleshooting Build Report for more information.
- Use the following Renviron settings to reproduce errors and warnings.
- If 'R CMD check' started to fail recently on the Linux builder(s) over a missing dependency, add the missing dependency to 'Suggests:' in your DESCRIPTION file. See Renviron.bioc for more information.

raw results

Package 837/2361HostnameOS / ArchINSTALLBUILDCHECKBUILD BIN
genomation 1.42.0  (landing page)
Altuna Akalin , Vedran Franke
Snapshot Date: 2025-11-16 13:45 -0500 (Sun, 16 Nov 2025)
git_url: https://git.bioconductor.org/packages/genomation
git_branch: RELEASE_3_22
git_last_commit: 01d23ac
git_last_commit_date: 2025-10-29 10:23:07 -0500 (Wed, 29 Oct 2025)
nebbiolo2Linux (Ubuntu 24.04.3 LTS) / x86_64  OK    OK    WARNINGS  UNNEEDED, same version is already published
taishanLinux (openEuler 24.03 LTS) / aarch64  OK    OK    WARNINGS  



Results for Bioconductor software packages that depend directly on package genomation

QUICK STATSOS / ArchINSTALLBUILDCHECKBUILD BIN
nebbiolo2Linux (Ubuntu 24.04.3 LTS) / x86_64
014
014
0004
taishanLinux (openEuler 24.03 LTS) / aarch64
014
014
1003
Package 1/5HostnameOS / ArchINSTALLBUILDCHECKBUILD BIN
CexoR 1.48.0  (landing page)
Pedro Madrigal
git_last_commit: 2ba0990
git_last_commit_date: 2025-10-29 11:12:38 -0500
nebbiolo2Linux (Ubuntu 24.04.3 LTS) / x86_64  OK    OK    OK  UNNEEDED, same version is already published
taishanLinux (openEuler 24.03 LTS) / aarch64  OK    OK    OK  
Package 2/5HostnameOS / ArchINSTALLBUILDCHECKBUILD BIN
EpiCompare 1.14.0  (landing page)
Hiranyamaya Dash
git_last_commit: c5d211a
git_last_commit_date: 2025-10-29 11:16:54 -0500
nebbiolo2Linux (Ubuntu 24.04.3 LTS) / x86_64  OK    OK    OK  UNNEEDED, same version is already published
taishanLinux (openEuler 24.03 LTS) / aarch64  OK    OK    TIMEOUT  
Package 3/5HostnameOS / ArchINSTALLBUILDCHECKBUILD BIN
fCCAC 1.36.0  (landing page)
Pedro Madrigal
git_last_commit: 17f1036
git_last_commit_date: 2025-10-29 10:35:32 -0500
nebbiolo2Linux (Ubuntu 24.04.3 LTS) / x86_64  OK    OK    OK  UNNEEDED, same version is already published
taishanLinux (openEuler 24.03 LTS) / aarch64  OK    OK    OK  
Package 4/5HostnameOS / ArchINSTALLBUILDCHECKBUILD BIN
GenomicPlot 1.8.0  (landing page)
Shuye Pu
git_last_commit: e9ce4a7
git_last_commit_date: 2025-10-29 11:24:51 -0500
nebbiolo2Linux (Ubuntu 24.04.3 LTS) / x86_64  ERROR    ERROR  skipped
taishanLinux (openEuler 24.03 LTS) / aarch64  ERROR    ERROR  skipped
Package 5/5HostnameOS / ArchINSTALLBUILDCHECKBUILD BIN
RCAS 1.36.0  (landing page)
Bora Uyar
git_last_commit: 780ed18
git_last_commit_date: 2025-10-29 10:33:22 -0500
nebbiolo2Linux (Ubuntu 24.04.3 LTS) / x86_64  OK    OK    OK  UNNEEDED, same version is already published
taishanLinux (openEuler 24.03 LTS) / aarch64  OK    OK    OK