Package: genoCN Version: 1.60.0 Command: /Library/Frameworks/R.framework/Resources/bin/R CMD INSTALL genoCN StartedAt: 2025-05-01 15:03:20 -0400 (Thu, 01 May 2025) EndedAt: 2025-05-01 15:03:28 -0400 (Thu, 01 May 2025) EllapsedTime: 8.3 seconds RetCode: 1 Status: ERROR