Package: genoCN Version: 1.60.0 Command: /Library/Frameworks/R.framework/Resources/bin/R CMD build --keep-empty-dirs --no-resave-data genoCN StartedAt: 2025-04-21 16:54:22 -0400 (Mon, 21 Apr 2025) EndedAt: 2025-04-21 16:54:25 -0400 (Mon, 21 Apr 2025) EllapsedTime: 2.3 seconds RetCode: 1 Status: ERROR PackageFile: None PackageFileSize: NA