Package: genoCN Version: 1.60.0 Command: /home/biocbuild/R/R/bin/R CMD build --keep-empty-dirs --no-resave-data genoCN StartedAt: 2025-05-06 00:56:03 -0000 (Tue, 06 May 2025) EndedAt: 2025-05-06 00:56:05 -0000 (Tue, 06 May 2025) EllapsedTime: 2.0 seconds RetCode: 1 Status: ERROR PackageFile: None PackageFileSize: NA