Package: genefu Version: 2.40.0 Command: /Library/Frameworks/R.framework/Resources/bin/R CMD INSTALL genefu StartedAt: 2025-04-21 15:31:01 -0400 (Mon, 21 Apr 2025) EndedAt: 2025-04-21 15:31:34 -0400 (Mon, 21 Apr 2025) EllapsedTime: 32.9 seconds RetCode: 0 Status: OK