Package: genefu Version: 2.40.0 Command: /Library/Frameworks/R.framework/Resources/bin/R CMD build --keep-empty-dirs --no-resave-data genefu StartedAt: 2025-04-21 16:53:25 -0400 (Mon, 21 Apr 2025) EndedAt: 2025-04-21 16:54:53 -0400 (Mon, 21 Apr 2025) EllapsedTime: 88.2 seconds RetCode: 0 Status: OK PackageFile: genefu_2.40.0.tar.gz PackageFileSize: 4.891 MiB