Package: genefu Version: 2.38.0 Command: /Library/Frameworks/R.framework/Resources/bin/R CMD check --install=check:genefu.install-out.txt --library=/Library/Frameworks/R.framework/Resources/library --no-vignettes --timings genefu_2.38.0.tar.gz StartedAt: 2024-11-09 03:00:01 -0500 (Sat, 09 Nov 2024) EndedAt: 2024-11-09 03:04:25 -0500 (Sat, 09 Nov 2024) EllapsedTime: 263.6 seconds RetCode: 1 Status: ERROR CheckDir: genefu.Rcheck Warnings: NA