Package: geneRecommender Version: 1.80.0 Command: E:\biocbuild\bbs-3.21-bioc\R\bin\R.exe CMD INSTALL geneRecommender StartedAt: 2025-08-14 15:40:04 -0400 (Thu, 14 Aug 2025) EndedAt: 2025-08-14 15:40:25 -0400 (Thu, 14 Aug 2025) EllapsedTime: 21.0 seconds RetCode: 0 Status: OK