Package: geneRecommender Version: 1.80.0 Command: /Library/Frameworks/R.framework/Resources/bin/R CMD INSTALL geneRecommender StartedAt: 2025-04-21 15:12:40 -0400 (Mon, 21 Apr 2025) EndedAt: 2025-04-21 15:12:49 -0400 (Mon, 21 Apr 2025) EllapsedTime: 8.2 seconds RetCode: 0 Status: OK