Package: geneRecommender Version: 1.80.0 Command: /Library/Frameworks/R.framework/Resources/bin/R CMD build --keep-empty-dirs --no-resave-data geneRecommender StartedAt: 2025-04-21 16:53:49 -0400 (Mon, 21 Apr 2025) EndedAt: 2025-04-21 16:54:01 -0400 (Mon, 21 Apr 2025) EllapsedTime: 11.5 seconds RetCode: 0 Status: OK PackageFile: geneRecommender_1.80.0.tar.gz PackageFileSize: 239.3 KiB