Package: geneRecommender Version: 1.80.0 Command: rm -rf geneRecommender.buildbin-libdir && mkdir geneRecommender.buildbin-libdir && /Users/biocbuild/BBS/utils/build-universal.sh geneRecommender_1.80.0.tar.gz /Library/Frameworks/R.framework/Resources/bin/R geneRecommender.buildbin-libdir StartedAt: 2025-04-22 00:46:49 -0400 (Tue, 22 Apr 2025) EndedAt: 2025-04-22 00:46:56 -0400 (Tue, 22 Apr 2025) EllapsedTime: 7.0 seconds RetCode: 0 Status: OK PackageFile: geneRecommender_1.80.0.tgz PackageFileSize: 263.3 KiB