Package: geneClassifiers Version: 1.30.0 Command: /home/biocbuild/R/R/bin/R CMD check --install=check:geneClassifiers.install-out.txt --library=/home/biocbuild/R/R/site-library --no-vignettes --timings geneClassifiers_1.30.0.tar.gz StartedAt: 2025-01-31 06:28:58 -0000 (Fri, 31 Jan 2025) EndedAt: 2025-01-31 06:29:34 -0000 (Fri, 31 Jan 2025) EllapsedTime: 36.0 seconds RetCode: 0 Status: OK CheckDir: geneClassifiers.Rcheck Warnings: 0