Package: geneAttribution Version: 1.34.0 Command: E:\biocbuild\bbs-3.21-bioc\R\bin\R.exe CMD INSTALL geneAttribution StartedAt: 2025-08-14 16:54:37 -0400 (Thu, 14 Aug 2025) EndedAt: 2025-08-14 16:55:22 -0400 (Thu, 14 Aug 2025) EllapsedTime: 45.2 seconds RetCode: 0 Status: OK