Package: geneAttribution Version: 1.34.0 Command: /home/biocbuild/bbs-3.21-bioc/R/bin/R CMD build --keep-empty-dirs --no-resave-data geneAttribution StartedAt: 2025-10-08 17:37:31 -0400 (Wed, 08 Oct 2025) EndedAt: 2025-10-08 17:38:05 -0400 (Wed, 08 Oct 2025) EllapsedTime: 34.0 seconds RetCode: 0 Status: OK PackageFile: geneAttribution_1.34.0.tar.gz PackageFileSize: 39.2 KiB