Package: geneAttribution Version: 1.34.0 Command: /Library/Frameworks/R.framework/Resources/bin/R CMD build --keep-empty-dirs --no-resave-data geneAttribution StartedAt: 2025-05-19 19:04:14 -0400 (Mon, 19 May 2025) EndedAt: 2025-05-19 19:05:29 -0400 (Mon, 19 May 2025) EllapsedTime: 74.9 seconds RetCode: 0 Status: OK PackageFile: geneAttribution_1.34.0.tar.gz PackageFileSize: 39.2 KiB