Package: geneAttribution Version: 1.34.0 Command: rm -rf geneAttribution.buildbin-libdir && mkdir geneAttribution.buildbin-libdir && /Users/biocbuild/BBS/utils/build-universal.sh geneAttribution_1.34.0.tar.gz /Library/Frameworks/R.framework/Resources/bin/R geneAttribution.buildbin-libdir StartedAt: 2025-05-20 13:31:58 -0400 (Tue, 20 May 2025) EndedAt: 2025-05-20 13:33:22 -0400 (Tue, 20 May 2025) EllapsedTime: 84.2 seconds RetCode: 0 Status: OK PackageFile: geneAttribution_1.34.0.tgz PackageFileSize: 64.15 KiB