Package: geneAttribution Version: 1.34.0 Command: /Library/Frameworks/R.framework/Resources/bin/R CMD build --keep-empty-dirs --no-resave-data geneAttribution StartedAt: 2025-05-23 00:22:20 -0400 (Fri, 23 May 2025) EndedAt: 2025-05-23 00:23:04 -0400 (Fri, 23 May 2025) EllapsedTime: 43.1 seconds RetCode: 0 Status: OK PackageFile: geneAttribution_1.34.0.tar.gz PackageFileSize: 39.22 KiB