Package: geneAttribution Version: 1.34.0 Command: rm -rf geneAttribution.buildbin-libdir && mkdir geneAttribution.buildbin-libdir && /Users/biocbuild/BBS/utils/build-universal.sh geneAttribution_1.34.0.tar.gz /Library/Frameworks/R.framework/Resources/bin/R geneAttribution.buildbin-libdir StartedAt: 2025-05-24 15:39:07 -0400 (Sat, 24 May 2025) EndedAt: 2025-05-24 15:39:51 -0400 (Sat, 24 May 2025) EllapsedTime: 43.5 seconds RetCode: 0 Status: OK PackageFile: geneAttribution_1.34.0.tgz PackageFileSize: 64.18 KiB