Package: genArise Version: 1.84.0 Command: chmod a+r genArise -R && E:\biocbuild\bbs-3.21-bioc\R\bin\R.exe CMD build --keep-empty-dirs --no-resave-data genArise StartedAt: 2025-08-14 19:17:22 -0400 (Thu, 14 Aug 2025) EndedAt: 2025-08-14 19:17:49 -0400 (Thu, 14 Aug 2025) EllapsedTime: 26.7 seconds RetCode: 0 Status: OK PackageFile: genArise_1.84.0.tar.gz PackageFileSize: 842.9 KiB