Package: gemma.R Version: 3.4.6 Command: /home/biocbuild/bbs-3.21-bioc/R/bin/R CMD INSTALL gemma.R StartedAt: 2025-10-15 15:17:21 -0400 (Wed, 15 Oct 2025) EndedAt: 2025-10-15 15:17:26 -0400 (Wed, 15 Oct 2025) EllapsedTime: 5.2 seconds RetCode: 0 Status: OK