Package: gemma.R Version: 3.4.6 Command: /home/biocbuild/bbs-3.21-bioc/R/bin/R CMD build --keep-empty-dirs --no-resave-data gemma.R StartedAt: 2025-10-15 17:37:25 -0400 (Wed, 15 Oct 2025) EndedAt: 2025-10-15 17:42:01 -0400 (Wed, 15 Oct 2025) EllapsedTime: 276.3 seconds RetCode: 0 Status: OK PackageFile: gemma.R_3.4.6.tar.gz PackageFileSize: 2.281 MiB