Package: gemma.R Version: 3.4.5 Command: /Library/Frameworks/R.framework/Resources/bin/R CMD INSTALL gemma.R StartedAt: 2025-07-21 16:06:58 -0400 (Mon, 21 Jul 2025) EndedAt: 2025-07-21 16:07:04 -0400 (Mon, 21 Jul 2025) EllapsedTime: 5.9 seconds RetCode: 0 Status: OK