Package: gemini Version: 1.20.0 Command: /home/biocbuild/R/R/bin/R CMD build --keep-empty-dirs --no-resave-data gemini StartedAt: 2025-01-30 23:45:45 -0000 (Thu, 30 Jan 2025) EndedAt: 2025-01-30 23:46:19 -0000 (Thu, 30 Jan 2025) EllapsedTime: 34.0 seconds RetCode: 0 Status: OK PackageFile: gemini_1.20.0.tar.gz PackageFileSize: 4.03 MiB