Package: gdsfmt Version: 1.42.1 Command: /home/biocbuild/R/R/bin/R CMD INSTALL gdsfmt StartedAt: 2025-01-30 20:05:50 -0000 (Thu, 30 Jan 2025) EndedAt: 2025-01-30 20:11:29 -0000 (Thu, 30 Jan 2025) EllapsedTime: 339.0 seconds RetCode: 0 Status: OK