Package: gdsfmt Version: 1.42.1 Command: chmod a+r gdsfmt -R && F:\biocbuild\bbs-3.20-bioc\R\bin\R.exe CMD build --keep-empty-dirs --no-resave-data gdsfmt StartedAt: 2025-01-30 19:04:54 -0500 (Thu, 30 Jan 2025) EndedAt: 2025-01-30 19:09:15 -0500 (Thu, 30 Jan 2025) EllapsedTime: 261.2 seconds RetCode: 0 Status: OK PackageFile: gdsfmt_1.42.1.tar.gz PackageFileSize: 2.967 MiB