Package: gdsfmt Version: 1.42.1 Command: rm -rf gdsfmt.buildbin-libdir && mkdir gdsfmt.buildbin-libdir && F:\biocbuild\bbs-3.20-bioc\R\bin\R.exe CMD INSTALL --build --library=gdsfmt.buildbin-libdir gdsfmt_1.42.1.tar.gz StartedAt: 2025-01-31 08:41:51 -0500 (Fri, 31 Jan 2025) EndedAt: 2025-01-31 08:45:47 -0500 (Fri, 31 Jan 2025) EllapsedTime: 236.7 seconds RetCode: 0 Status: OK PackageFile: gdsfmt_1.42.1.zip PackageFileSize: 1.805 MiB