Package: gdsfmt Version: 1.42.1 Command: /home/biocbuild/bbs-3.20-bioc/R/bin/R CMD build --keep-empty-dirs --no-resave-data --md5 gdsfmt StartedAt: 2025-01-30 17:21:15 -0500 (Thu, 30 Jan 2025) EndedAt: 2025-01-30 17:25:06 -0500 (Thu, 30 Jan 2025) EllapsedTime: 231.3 seconds RetCode: 0 Status: OK PackageFile: gdsfmt_1.42.1.tar.gz PackageFileSize: 2.798 MiB