Package: gdsfmt Version: 1.42.1 Command: /Library/Frameworks/R.framework/Resources/bin/R CMD INSTALL gdsfmt StartedAt: 2025-01-30 15:06:27 -0500 (Thu, 30 Jan 2025) EndedAt: 2025-01-30 15:11:00 -0500 (Thu, 30 Jan 2025) EllapsedTime: 272.3 seconds RetCode: 0 Status: OK