Package: gdsfmt Version: 1.42.1 Command: /Library/Frameworks/R.framework/Resources/bin/R CMD check --install=check:gdsfmt.install-out.txt --library=/Library/Frameworks/R.framework/Resources/library --no-vignettes --timings gdsfmt_1.42.1.tar.gz StartedAt: 2025-01-31 04:11:24 -0500 (Fri, 31 Jan 2025) EndedAt: 2025-01-31 04:16:22 -0500 (Fri, 31 Jan 2025) EllapsedTime: 298.3 seconds RetCode: 0 Status: OK CheckDir: gdsfmt.Rcheck Warnings: 0