Package: gdsfmt Version: 1.42.1 Command: rm -rf gdsfmt.buildbin-libdir && mkdir gdsfmt.buildbin-libdir && /Users/biocbuild/BBS/utils/build-universal.sh gdsfmt_1.42.1.tar.gz /Library/Frameworks/R.framework/Resources/bin/R gdsfmt.buildbin-libdir StartedAt: 2025-01-31 12:50:43 -0500 (Fri, 31 Jan 2025) EndedAt: 2025-01-31 12:57:17 -0500 (Fri, 31 Jan 2025) EllapsedTime: 394.6 seconds RetCode: 0 Status: OK PackageFile: gdsfmt_1.42.1.tgz PackageFileSize: 1.867 MiB