Package: gdsfmt Version: 1.42.0 Command: /Library/Frameworks/R.framework/Resources/bin/R CMD check --install=check:gdsfmt.install-out.txt --library=/Library/Frameworks/R.framework/Resources/library --no-vignettes --timings gdsfmt_1.42.0.tar.gz StartedAt: 2024-11-19 22:18:29 -0500 (Tue, 19 Nov 2024) EndedAt: 2024-11-19 22:24:15 -0500 (Tue, 19 Nov 2024) EllapsedTime: 346.7 seconds RetCode: 0 Status: OK CheckDir: gdsfmt.Rcheck Warnings: 0