Package: gdsfmt Version: 1.42.0 Command: /Library/Frameworks/R.framework/Resources/bin/R CMD build --keep-empty-dirs --no-resave-data gdsfmt StartedAt: 2024-11-19 16:55:05 -0500 (Tue, 19 Nov 2024) EndedAt: 2024-11-19 16:59:26 -0500 (Tue, 19 Nov 2024) EllapsedTime: 261.4 seconds RetCode: 0 Status: OK PackageFile: gdsfmt_1.42.0.tar.gz PackageFileSize: 2.796 MiB