Package: gdsfmt Version: 1.42.0 Command: rm -rf gdsfmt.buildbin-libdir && mkdir gdsfmt.buildbin-libdir && /Users/biocbuild/BBS/utils/build-universal.sh gdsfmt_1.42.0.tar.gz /Library/Frameworks/R.framework/Resources/bin/R gdsfmt.buildbin-libdir StartedAt: 2024-11-20 04:27:55 -0500 (Wed, 20 Nov 2024) EndedAt: 2024-11-20 04:33:26 -0500 (Wed, 20 Nov 2024) EllapsedTime: 331.6 seconds RetCode: 0 Status: OK PackageFile: gdsfmt_1.42.0.tgz PackageFileSize: 1.87 MiB