Package: gdsfmt Version: 1.42.0 Command: /home/biocbuild/R/R/bin/R CMD build --keep-empty-dirs --no-resave-data gdsfmt StartedAt: 2024-11-20 00:51:02 -0000 (Wed, 20 Nov 2024) EndedAt: 2024-11-20 00:56:53 -0000 (Wed, 20 Nov 2024) EllapsedTime: 351.5 seconds RetCode: 0 Status: OK PackageFile: gdsfmt_1.42.0.tar.gz PackageFileSize: 2.817 MiB