Package: gdsfmt Version: 1.42.0 Command: /Library/Frameworks/R.framework/Resources/bin/R CMD check --install=check:gdsfmt.install-out.txt --library=/Library/Frameworks/R.framework/Resources/library --no-vignettes --timings gdsfmt_1.42.0.tar.gz StartedAt: 2024-11-09 02:52:23 -0500 (Sat, 09 Nov 2024) EndedAt: 2024-11-09 02:57:09 -0500 (Sat, 09 Nov 2024) EllapsedTime: 285.8 seconds RetCode: 0 Status: OK CheckDir: gdsfmt.Rcheck Warnings: 0