Package: gdsfmt Version: 1.42.1 Command: /Library/Frameworks/R.framework/Resources/bin/R CMD INSTALL gdsfmt StartedAt: 2025-02-03 15:08:56 -0500 (Mon, 03 Feb 2025) EndedAt: 2025-02-03 15:11:55 -0500 (Mon, 03 Feb 2025) EllapsedTime: 179.0 seconds RetCode: 0 Status: OK