Package: gcatest Version: 2.8.0 Command: /Library/Frameworks/R.framework/Resources/bin/R CMD INSTALL gcatest StartedAt: 2025-05-05 15:07:50 -0400 (Mon, 05 May 2025) EndedAt: 2025-05-05 15:08:21 -0400 (Mon, 05 May 2025) EllapsedTime: 31.1 seconds RetCode: 0 Status: OK