Package: gcatest Version: 2.8.0 Command: /Library/Frameworks/R.framework/Resources/bin/R CMD check --install=check:gcatest.install-out.txt --library=/Library/Frameworks/R.framework/Resources/library --no-vignettes --timings gcatest_2.8.0.tar.gz StartedAt: 2025-05-06 03:34:04 -0400 (Tue, 06 May 2025) EndedAt: 2025-05-06 03:35:15 -0400 (Tue, 06 May 2025) EllapsedTime: 71.7 seconds RetCode: 0 Status: OK CheckDir: gcatest.Rcheck Warnings: 0