Package: gcatest Version: 2.8.0 Command: /Library/Frameworks/R.framework/Resources/bin/R CMD build --keep-empty-dirs --no-resave-data gcatest StartedAt: 2025-04-21 16:51:57 -0400 (Mon, 21 Apr 2025) EndedAt: 2025-04-21 16:52:24 -0400 (Mon, 21 Apr 2025) EllapsedTime: 27.4 seconds RetCode: 0 Status: OK PackageFile: gcatest_2.8.0.tar.gz PackageFileSize: 2.147 MiB